BEGIN:VCALENDAR
VERSION:2.0
PRODID:-//OmniMagnetCalendar//EN
BEGIN:VEVENT
DTSTAMP:20190625T195740Z
STATUS:CONFIRMED
UID:hcnorthernnevada.clubs.harvard.edu270
DTSTART:20190618T223000Z
DTEND:20190627T223000Z
LOCATION:
SUMMARY:Intercollegiate Alumni Tour of Village on Sage Street: June 18, 19, 25, 26, 27
DESCRIPTION:Please join us for an affordable housing tour.
BEGIN:VALARM
TRIGGER:-PT15M
ACTION:DISPLAY
END:VALARM
TRANSP:OPAQUE
END:VEVENT
END:VCALENDAR
