BEGIN:VCALENDAR
VERSION:2.0
PRODID:-//OmniMagnetCalendar//EN
BEGIN:VEVENT
DTSTAMP:20190625T195740Z
STATUS:CONFIRMED
UID:hcnorthernnevada.clubs.harvard.edu275
DTSTART:20191114T020000Z
DTEND:20191114T040005Z
LOCATION:The Grand Sierra Resort, 2500 E 2nd St, Reno, NV, 89595, USA,
SUMMARY:Ivy Intercollegiate Alumni Fall Dinner: November 13, 2019, RSVP required
DESCRIPTION:
BEGIN:VALARM
TRIGGER:-PT15M
ACTION:DISPLAY
END:VALARM
TRANSP:OPAQUE
END:VEVENT
END:VCALENDAR
