BEGIN:VCALENDAR
VERSION:2.0
PRODID:-//OmniMagnetCalendar//EN
BEGIN:VEVENT
DTSTAMP:20190625T195740Z
STATUS:CONFIRMED
UID:hcnorthernnevada.clubs.harvard.edu277
DTSTART:20191012T200000Z
DTEND:20191012T220000Z
LOCATION:
SUMMARY:Intercollegiate Alumni Book Signing: October 12, 2019
DESCRIPTION:Join us for a book signing at Sundance Books & Music.
BEGIN:VALARM
TRIGGER:-PT15M
ACTION:DISPLAY
END:VALARM
TRANSP:OPAQUE
END:VEVENT
END:VCALENDAR
