BEGIN:VCALENDAR
VERSION:2.0
PRODID:-//OmniMagnetCalendar//EN
BEGIN:VEVENT
DTSTAMP:20190625T195740Z
STATUS:CONFIRMED
UID:hcnorthernnevada.clubs.harvard.edu279
DTSTART:20191213T013000Z
DTEND:20191213T033000Z
LOCATION:
SUMMARY:Ivy-intercollegiate Alumni Holiday Gathering: December 9
DESCRIPTION:Let's greet the holidays together!
BEGIN:VALARM
TRIGGER:-PT15M
ACTION:DISPLAY
END:VALARM
TRANSP:OPAQUE
END:VEVENT
END:VCALENDAR
