BEGIN:VCALENDAR
VERSION:2.0
PRODID:-//OmniMagnetCalendar//EN
BEGIN:VEVENT
DTSTAMP:20190625T195740Z
STATUS:CONFIRMED
UID:hcnorthernnevada.clubs.harvard.edu280
DTSTART:20221213T000000Z
DTEND:20221213T010000Z
LOCATION:
SUMMARY:Harvard Club Annual Meeting: December 12
DESCRIPTION:Prior  to Ivy-intercollegiate Holiday Party
BEGIN:VALARM
TRIGGER:-PT15M
ACTION:DISPLAY
END:VALARM
TRANSP:OPAQUE
END:VEVENT
END:VCALENDAR
