BEGIN:VCALENDAR
VERSION:2.0
PRODID:-//OmniMagnetCalendar//EN
BEGIN:VEVENT
DTSTAMP:20190625T195740Z
STATUS:CONFIRMED
UID:hcnorthernnevada.clubs.harvard.edu281
DTSTART:20200116T020000Z
DTEND:20200116T040000Z
LOCATION:The Lone Eagle Grille, 111 Country Club Drive, Incline Village, NV, 89451, USA,
SUMMARY:Global Networking Night:  January 15, 2020 at Incline
DESCRIPTION:An evening of networking for our Ivy-intercollegiate Alumni
BEGIN:VALARM
TRIGGER:-PT15M
ACTION:DISPLAY
END:VALARM
TRANSP:OPAQUE
END:VEVENT
END:VCALENDAR
