BEGIN:VCALENDAR
VERSION:2.0
PRODID:-//OmniMagnetCalendar//EN
BEGIN:VEVENT
DTSTAMP:20190625T195740Z
STATUS:CONFIRMED
UID:hcnorthernnevada.clubs.harvard.edu285
DTSTART:20200214T013000Z
DTEND:20200214T033000Z
LOCATION:
SUMMARY:Ivy-intercollegiate Alumni Gathering: February 13, 2020
DESCRIPTION:Let's share appetizers and conversation.
BEGIN:VALARM
TRIGGER:-PT15M
ACTION:DISPLAY
END:VALARM
TRANSP:OPAQUE
END:VEVENT
END:VCALENDAR
