BEGIN:VCALENDAR
VERSION:2.0
PRODID:-//OmniMagnetCalendar//EN
BEGIN:VEVENT
DTSTAMP:20190625T195740Z
STATUS:CONFIRMED
UID:hcnorthernnevada.clubs.harvard.edu296
DTSTART:20200702T000000Z
DTEND:20200702T020000Z
LOCATION:Live Virtual Event,
SUMMARY:A conversation with Caleb Cage, Incident Commander for the NV Covid-19 Response
DESCRIPTION:Join Ivy-intercollegiate alumni for the latest news on Covid-19 in Nevada.
BEGIN:VALARM
TRIGGER:-PT15M
ACTION:DISPLAY
END:VALARM
TRANSP:OPAQUE
END:VEVENT
END:VCALENDAR
