BEGIN:VCALENDAR
VERSION:2.0
PRODID:-//OmniMagnetCalendar//EN
BEGIN:VEVENT
DTSTAMP:20190625T195740Z
STATUS:CONFIRMED
UID:hcnorthernnevada.clubs.harvard.edu299
DTSTART:20201028T003000Z
DTEND:20201028T023000Z
LOCATION:Live Virtual Event,
SUMMARY:A conversation with renowned Harvard Law School Professor Michael J. Klarman : October 27
DESCRIPTION:Join Ivy-intercollegiate alumni for a discussion on democracy and the Supreme Court.
BEGIN:VALARM
TRIGGER:-PT15M
ACTION:DISPLAY
END:VALARM
TRANSP:OPAQUE
END:VEVENT
END:VCALENDAR
