BEGIN:VCALENDAR
VERSION:2.0
PRODID:-//OmniMagnetCalendar//EN
BEGIN:VEVENT
DTSTAMP:20190625T195740Z
STATUS:CONFIRMED
UID:hcnorthernnevada.clubs.harvard.edu306
DTSTART:20210401T000000Z
DTEND:20210401T013000Z
LOCATION:
SUMMARY:Harvard's "Science and Cooking" Course: An Insider's Discussion with Professor Michael Brenner
DESCRIPTION:Join us for a fun, educational evening. RSVP by March 27
BEGIN:VALARM
TRIGGER:-PT15M
ACTION:DISPLAY
END:VALARM
TRANSP:OPAQUE
END:VEVENT
END:VCALENDAR
