BEGIN:VCALENDAR
VERSION:2.0
PRODID:-//OmniMagnetCalendar//EN
BEGIN:VEVENT
DTSTAMP:20190625T195740Z
STATUS:CONFIRMED
UID:hcnorthernnevada.clubs.harvard.edu315
DTSTART:20211119T013000Z
DTEND:20211119T033000Z
LOCATION:
SUMMARY:Ivy-intercollegiate Alumni Gathering: Manzanita Restaurant/Bar at Northstar, Wednesday, November 18,
DESCRIPTION:
BEGIN:VALARM
TRIGGER:-PT15M
ACTION:DISPLAY
END:VALARM
TRANSP:OPAQUE
END:VEVENT
END:VCALENDAR
