BEGIN:VCALENDAR
VERSION:2.0
PRODID:-//OmniMagnetCalendar//EN
BEGIN:VEVENT
DTSTAMP:20190625T195740Z
STATUS:CONFIRMED
UID:hcnorthernnevada.clubs.harvard.edu316
DTSTART:20211202T010000Z
DTEND:20211202T030000Z
LOCATION:
SUMMARY:Lecture: Harvard Professor Fiery Cushman: The Paradox of Moral Value   Wednesday, December  1, RSVP
DESCRIPTION:Neuroscience, the brain and moral decisions.
BEGIN:VALARM
TRIGGER:-PT15M
ACTION:DISPLAY
END:VALARM
TRANSP:OPAQUE
END:VEVENT
END:VCALENDAR
