BEGIN:VCALENDAR
VERSION:2.0
PRODID:-//OmniMagnetCalendar//EN
BEGIN:VEVENT
DTSTAMP:20190625T195740Z
STATUS:CONFIRMED
UID:hcnorthernnevada.clubs.harvard.edu321
DTSTART:20220426T003000Z
DTEND:20220426T013000Z
LOCATION:
SUMMARY:An online discussion on Technology and Education with Harvard Professor Bharat Anand, April 25
DESCRIPTION:This event is sponsored by the Harvard Club of Northern Nevada along with the Harvard Clubs of the Southwest Region.
BEGIN:VALARM
TRIGGER:-PT15M
ACTION:DISPLAY
END:VALARM
TRANSP:OPAQUE
END:VEVENT
END:VCALENDAR
