BEGIN:VCALENDAR
VERSION:2.0
PRODID:-//OmniMagnetCalendar//EN
BEGIN:VEVENT
DTSTAMP:20190625T195740Z
STATUS:CONFIRMED
UID:hcnorthernnevada.clubs.harvard.edu332
DTSTART:20220910T170000Z
DTEND:20220910T183000Z
LOCATION:
SUMMARY:Beyond Van Gogh: An Immersive Experience, RSVP
DESCRIPTION:Priority given to dues-paying members. Open to Ivy-intercollegiate.
BEGIN:VALARM
TRIGGER:-PT15M
ACTION:DISPLAY
END:VALARM
TRANSP:OPAQUE
END:VEVENT
END:VCALENDAR
