BEGIN:VCALENDAR
VERSION:2.0
PRODID:-//OmniMagnetCalendar//EN
BEGIN:VEVENT
DTSTAMP:20190625T195740Z
STATUS:CONFIRMED
UID:hcnorthernnevada.clubs.harvard.edu333
DTSTART:20221110T013000Z
DTEND:20221110T040000Z
LOCATION:
SUMMARY:Harvard Annual Ivy-intercollegiate Dinner - SOLD OUT
DESCRIPTION:Cryptocurrency and the Blockchain
BEGIN:VALARM
TRIGGER:-PT15M
ACTION:DISPLAY
END:VALARM
TRANSP:OPAQUE
END:VEVENT
END:VCALENDAR
