BEGIN:VCALENDAR
VERSION:2.0
PRODID:-//OmniMagnetCalendar//EN
BEGIN:VEVENT
DTSTAMP:20190625T195740Z
STATUS:CONFIRMED
UID:hcnorthernnevada.clubs.harvard.edu334
DTSTART:20230128T160000Z
DTEND:20230129T050000Z
LOCATION:
SUMMARY:Harvard Club Tahoe Ski Day; RSVP by January 14
DESCRIPTION:Join the Harvard Clubs of Northern Nevada, Silicon Valley, San Francisco and Sacramento.
BEGIN:VALARM
TRIGGER:-PT15M
ACTION:DISPLAY
END:VALARM
TRANSP:OPAQUE
END:VEVENT
END:VCALENDAR
