BEGIN:VCALENDAR
VERSION:2.0
PRODID:-//OmniMagnetCalendar//EN
BEGIN:VEVENT
DTSTAMP:20190625T195740Z
STATUS:CONFIRMED
UID:hcnorthernnevada.clubs.harvard.edu340
DTSTART:20230317T003000Z
DTEND:20230317T020000Z
LOCATION:https://harvard.zoom.us/j/92368365279?pwd=Zmd0TXU3QkF5ckRlellzMDQ3TmV2QT09,
SUMMARY: Happy Hour Global Networking Night:  Big Water Grille, Thursday, March 16
DESCRIPTION:An evening of networking for our Ivy-intercollegiate Alumni.
BEGIN:VALARM
TRIGGER:-PT15M
ACTION:DISPLAY
END:VALARM
TRANSP:OPAQUE
END:VEVENT
END:VCALENDAR
