BEGIN:VCALENDAR
VERSION:2.0
PRODID:-//OmniMagnetCalendar//EN
BEGIN:VEVENT
DTSTAMP:20190625T195740Z
STATUS:CONFIRMED
UID:hcnorthernnevada.clubs.harvard.edu347
DTSTART:20230716T170000Z
DTEND:20230716T170000Z
LOCATION:
SUMMARY:Carpenter Valley Tahoe Ivy+ Hike, July 16 POSTPONED
DESCRIPTION:Join us for a 5 mile round trip, intermediate level hike.
BEGIN:VALARM
TRIGGER:-PT15M
ACTION:DISPLAY
END:VALARM
TRANSP:OPAQUE
END:VEVENT
END:VCALENDAR
