BEGIN:VCALENDAR
VERSION:2.0
PRODID:-//OmniMagnetCalendar//EN
BEGIN:VEVENT
DTSTAMP:20190625T195740Z
STATUS:CONFIRMED
UID:hcnorthernnevada.clubs.harvard.edu348
DTSTART:20230716T153000Z
DTEND:20230716T193000Z
LOCATION:
SUMMARY:Tahoe East Shore Trail Hike in Incline Village, Sunday July 16
DESCRIPTION:
BEGIN:VALARM
TRIGGER:-PT15M
ACTION:DISPLAY
END:VALARM
TRANSP:OPAQUE
END:VEVENT
END:VCALENDAR
