BEGIN:VCALENDAR
VERSION:2.0
PRODID:-//OmniMagnetCalendar//EN
BEGIN:VEVENT
DTSTAMP:20190625T195740Z
STATUS:CONFIRMED
UID:hcnorthernnevada.clubs.harvard.edu351
DTSTART:20231015T180000Z
DTEND:20231015T213000Z
LOCATION:Donner Lake Lagoon - Details to be provided to participants who RSVP,
SUMMARY:Truckee River Day Volunteering Opportunity
DESCRIPTION:Welcome Harvard and Ivy+ alumni to a community service project opportunity.
BEGIN:VALARM
TRIGGER:-PT15M
ACTION:DISPLAY
END:VALARM
TRANSP:OPAQUE
END:VEVENT
END:VCALENDAR
