BEGIN:VCALENDAR
VERSION:2.0
PRODID:-//OmniMagnetCalendar//EN
BEGIN:VEVENT
DTSTAMP:20190625T195740Z
STATUS:CONFIRMED
UID:hcnorthernnevada.clubs.harvard.edu352
DTSTART:20231206T013000Z
DTEND:20231206T030000Z
LOCATION:
SUMMARY:China and the World, A Symposium
DESCRIPTION:This lecture event brings together ten scholars who will offer contemporary views of China from Africa, Europe, Korea, Mongolia, Russia, and the United States.  Please RSVP now by clicking the link to the event above as spaces are limited.
BEGIN:VALARM
TRIGGER:-PT15M
ACTION:DISPLAY
END:VALARM
TRANSP:OPAQUE
END:VEVENT
END:VCALENDAR
