BEGIN:VCALENDAR
VERSION:2.0
PRODID:-//OmniMagnetCalendar//EN
BEGIN:VEVENT
DTSTAMP:20190625T195740Z
STATUS:CONFIRMED
UID:hcnorthernnevada.clubs.harvard.edu353
DTSTART:20231108T010000Z
DTEND:20231108T030000Z
LOCATION:Belleville Wine Bar, 400 W. 5th St #101, Ren, NV, 89503,
SUMMARY:All Ivy+ Happy Hour
DESCRIPTION:Join us at Belleville Wine Bar for socializing and wine tasting.  All Ivy+ alumni are welcome.  RSVP is not required but appreciated.
BEGIN:VALARM
TRIGGER:-PT15M
ACTION:DISPLAY
END:VALARM
TRANSP:OPAQUE
END:VEVENT
END:VCALENDAR
