BEGIN:VCALENDAR
VERSION:2.0
PRODID:-//OmniMagnetCalendar//EN
BEGIN:VEVENT
DTSTAMP:20190625T195740Z
STATUS:CONFIRMED
UID:hcnorthernnevada.clubs.harvard.edu359
DTSTART:20240126T010000Z
DTEND:
LOCATION:
SUMMARY:Preserving Our Stories: the Radcliffe Oral History Project
DESCRIPTION:An overview of the project and anecdotes from oral history interviews with alumnae.
BEGIN:VALARM
TRIGGER:-PT15M
ACTION:DISPLAY
END:VALARM
TRANSP:OPAQUE
END:VEVENT
END:VCALENDAR
