BEGIN:VCALENDAR
VERSION:2.0
PRODID:-//OmniMagnetCalendar//EN
BEGIN:VEVENT
DTSTAMP:20190625T195740Z
STATUS:CONFIRMED
UID:hcnorthernnevada.clubs.harvard.edu360
DTSTART:20240105T010000Z
DTEND:20240105T023000Z
LOCATION:
SUMMARY:First Thursday at the Nevada Museum of Art
DESCRIPTION:A casual Ivy+ gathering during the museum's First Thursday musical evening.
BEGIN:VALARM
TRIGGER:-PT15M
ACTION:DISPLAY
END:VALARM
TRANSP:OPAQUE
END:VEVENT
END:VCALENDAR
