BEGIN:VCALENDAR
VERSION:2.0
PRODID:-//OmniMagnetCalendar//EN
BEGIN:VEVENT
DTSTAMP:20190625T195740Z
STATUS:CONFIRMED
UID:hcnorthernnevada.clubs.harvard.edu361
DTSTART:20240323T170000Z
DTEND:20240323T190000Z
LOCATION:
SUMMARY:NEW DATE: Family Ivy+ Event: UNR Fleischmann Planetarium Screening of "Great Planet Adventures"
DESCRIPTION:Please bring your family and friends.Registration required $5.
BEGIN:VALARM
TRIGGER:-PT15M
ACTION:DISPLAY
END:VALARM
TRANSP:OPAQUE
END:VEVENT
END:VCALENDAR
