BEGIN:VCALENDAR
VERSION:2.0
PRODID:-//OmniMagnetCalendar//EN
BEGIN:VEVENT
DTSTAMP:20190625T195740Z
STATUS:CONFIRMED
UID:hcnorthernnevada.clubs.harvard.edu364
DTSTART:20240603T010000Z
DTEND:20240603T030000Z
LOCATION:ArrowCreek: Resident Center Park,
SUMMARY:An Outdoor Concert: Blue Water Highway at ArrowCreek sponsored by For The Song: June 2
DESCRIPTION:Registration required: $20 donation per person
BEGIN:VALARM
TRIGGER:-PT15M
ACTION:DISPLAY
END:VALARM
TRANSP:OPAQUE
END:VEVENT
END:VCALENDAR
