BEGIN:VCALENDAR
VERSION:2.0
PRODID:-//OmniMagnetCalendar//EN
BEGIN:VEVENT
DTSTAMP:20190625T195740Z
STATUS:CONFIRMED
UID:hcnorthernnevada.clubs.harvard.edu370
DTSTART:20240912T003000Z
DTEND:20240912T023000Z
LOCATION:
SUMMARY:CANCELED All-Ivy Happy Hour & Welcome to Our City: September 11
DESCRIPTION:See old friends and make new ones. New transplants to the area are especially welcome!
BEGIN:VALARM
TRIGGER:-PT15M
ACTION:DISPLAY
END:VALARM
TRANSP:OPAQUE
END:VEVENT
END:VCALENDAR
