BEGIN:VCALENDAR
VERSION:2.0
PRODID:-//OmniMagnetCalendar//EN
BEGIN:VEVENT
DTSTAMP:20190625T195740Z
STATUS:CONFIRMED
UID:hcnorthernnevada.clubs.harvard.edu372
DTSTART:20241020T180000Z
DTEND:20241020T200000Z
LOCATION:
SUMMARY:Truckee River Day and Festival: October 20
DESCRIPTION:Join us for a fun day preserving the watershed.
BEGIN:VALARM
TRIGGER:-PT15M
ACTION:DISPLAY
END:VALARM
TRANSP:OPAQUE
END:VEVENT
END:VCALENDAR
