BEGIN:VCALENDAR
VERSION:2.0
PRODID:-//OmniMagnetCalendar//EN
BEGIN:VEVENT
DTSTAMP:20190625T195740Z
STATUS:CONFIRMED
UID:hcnorthernnevada.clubs.harvard.edu373
DTSTART:20241120T010000Z
DTEND:20241120T023000Z
LOCATION:
SUMMARY:Lecture: A discussion of Yi Sang's Writings in Colonial Korea under Japanese Occupation, November 19
DESCRIPTION:Join us for the Hilliard Endowment Lecture by Professor John M. Frankl,  Ph.D. (2003, Harvard GSAS) as he presents The Master's Duty: Tourism qua Critique of Asymetrical Japanese Colonial Policies in Yi Sang's "Miscellaneous Writings by Autumn Lamplight"
BEGIN:VALARM
TRIGGER:-PT15M
ACTION:DISPLAY
END:VALARM
TRANSP:OPAQUE
END:VEVENT
END:VCALENDAR
