BEGIN:VCALENDAR
VERSION:2.0
PRODID:-//OmniMagnetCalendar//EN
BEGIN:VEVENT
DTSTAMP:20190625T195740Z
STATUS:CONFIRMED
UID:hcnorthernnevada.clubs.harvard.edu375
DTSTART:20241211T000000Z
DTEND:20241211T033000Z
LOCATION:Skippolini's, 13971 S. Virginia St., Reno, NV, 89511,
SUMMARY:Annual Meeting 4pm & All-Ivy+ Holiday Party 5:30-7:30pm, December 10
DESCRIPTION:All dues-paying Harvard Club members (including All-Ivy+ alums) are invited to join for our annual meeting at 4pm followed by our Holiday Party at 5:30pm where All-Ivy+ alumni are welcome.
BEGIN:VALARM
TRIGGER:-PT15M
ACTION:DISPLAY
END:VALARM
TRANSP:OPAQUE
END:VEVENT
END:VCALENDAR
