BEGIN:VCALENDAR
VERSION:2.0
PRODID:-//OmniMagnetCalendar//EN
BEGIN:VEVENT
DTSTAMP:20190625T195740Z
STATUS:CONFIRMED
UID:hcnorthernnevada.clubs.harvard.edu376
DTSTART:20250111T160000Z
DTEND:20250112T030000Z
LOCATION:
SUMMARY:Registration Open: Harvard Club Ski Day, January 11
DESCRIPTION:Join the Harvard Clubs of Northern Nevada & the Sierra, Silicon Valley, San Francisco and Sacramento for a joint ski day at Palisades Tahoe (formerly Squaw Valley Ski Resort: https://www.palisadestahoe.com). Often voted one of North America's best ski res
BEGIN:VALARM
TRIGGER:-PT15M
ACTION:DISPLAY
END:VALARM
TRANSP:OPAQUE
END:VEVENT
END:VCALENDAR
