BEGIN:VCALENDAR
VERSION:2.0
PRODID:-//OmniMagnetCalendar//EN
BEGIN:VEVENT
DTSTAMP:20190625T195740Z
STATUS:CONFIRMED
UID:hcnorthernnevada.clubs.harvard.edu377
DTSTART:20241110T030000Z
DTEND:20241110T051500Z
LOCATION:
SUMMARY:For The Song: John Ellliott, November 9
DESCRIPTION:If you miss John Elliott on First Thursday, catch him on Saturday at Arrowcreek.Registration required.
BEGIN:VALARM
TRIGGER:-PT15M
ACTION:DISPLAY
END:VALARM
TRANSP:OPAQUE
END:VEVENT
END:VCALENDAR
