BEGIN:VCALENDAR
VERSION:2.0
PRODID:-//OmniMagnetCalendar//EN
BEGIN:VEVENT
DTSTAMP:20190625T195740Z
STATUS:CONFIRMED
UID:hcnorthernnevada.clubs.harvard.edu379
DTSTART:20250213T013000Z
DTEND:20250213T030000Z
LOCATION:Belleville Wine Bar, 400 W. 5th St #101, Reno, NV, 89503,
SUMMARY:All Ivy+ Happy Hour, February 12
DESCRIPTION:Join us at Belleville Wine Bar for appetizers and wine.  All Ivy+ alumni are welcome.
BEGIN:VALARM
TRIGGER:-PT15M
ACTION:DISPLAY
END:VALARM
TRANSP:OPAQUE
END:VEVENT
END:VCALENDAR
