BEGIN:VCALENDAR
VERSION:2.0
PRODID:-//OmniMagnetCalendar//EN
BEGIN:VEVENT
DTSTAMP:20190625T195740Z
STATUS:CONFIRMED
UID:hcnorthernnevada.clubs.harvard.edu380
DTSTART:20250320T000000Z
DTEND:20250320T020000Z
LOCATION:
SUMMARY:Global Networking Night, March 19
DESCRIPTION:A night of connection and community. Ivy+ alumni are welcome.
BEGIN:VALARM
TRIGGER:-PT15M
ACTION:DISPLAY
END:VALARM
TRANSP:OPAQUE
END:VEVENT
END:VCALENDAR
