BEGIN:VCALENDAR
VERSION:2.0
PRODID:-//OmniMagnetCalendar//EN
BEGIN:VEVENT
DTSTAMP:20190625T195740Z
STATUS:CONFIRMED
UID:hcnorthernnevada.clubs.harvard.edu381
DTSTART:20250323T023000Z
DTEND:20250323T230000Z
LOCATION:
SUMMARY:SOLOIST KATHERINE EMMA LIU at the Reno Phil March 22 & 23
DESCRIPTION:Davdson Fellow Dual Degree Undergraduate Harvard and Masters NEC
BEGIN:VALARM
TRIGGER:-PT15M
ACTION:DISPLAY
END:VALARM
TRANSP:OPAQUE
END:VEVENT
END:VCALENDAR
