BEGIN:VCALENDAR
VERSION:2.0
PRODID:-//OmniMagnetCalendar//EN
BEGIN:VEVENT
DTSTAMP:20190625T195740Z
STATUS:CONFIRMED
UID:hcnorthernnevada.clubs.harvard.edu388
DTSTART:20250816T171500Z
DTEND:20250816T203000Z
LOCATION:
SUMMARY:Nevada Museum of Art Tour, Limited to 10, Saturday, August 16 FULL
DESCRIPTION:Docent Betsy Burgess, Wellesley '71, will lead us through the new galleries.
BEGIN:VALARM
TRIGGER:-PT15M
ACTION:DISPLAY
END:VALARM
TRANSP:OPAQUE
END:VEVENT
END:VCALENDAR
