BEGIN:VCALENDAR
VERSION:2.0
PRODID:-//OmniMagnetCalendar//EN
BEGIN:VEVENT
DTSTAMP:20190625T195740Z
STATUS:CONFIRMED
UID:hcnorthernnevada.clubs.harvard.edu390
DTSTART:20250710T003000Z
DTEND:20250710T020000Z
LOCATION:
SUMMARY:Ivy+ Happy Hour Wednesday, July 9
DESCRIPTION:Join us for appetizers and good company at the Rubicon Pizza Company at Northstar. Free Parking.
BEGIN:VALARM
TRIGGER:-PT15M
ACTION:DISPLAY
END:VALARM
TRANSP:OPAQUE
END:VEVENT
END:VCALENDAR
