BEGIN:VCALENDAR
VERSION:2.0
PRODID:-//OmniMagnetCalendar//EN
BEGIN:VEVENT
DTSTAMP:20190625T195740Z
STATUS:CONFIRMED
UID:hcnorthernnevada.clubs.harvard.edu396
DTSTART:20251019T180000Z
DTEND:20251019T213000Z
LOCATION:
SUMMARY:Ivy+ Truckee River Day, Sunday, October 19, Register extension until October 12.
DESCRIPTION:Join us for our morning annual volunteer event and for the afternoon fair afterwards.
BEGIN:VALARM
TRIGGER:-PT15M
ACTION:DISPLAY
END:VALARM
TRANSP:OPAQUE
END:VEVENT
END:VCALENDAR
