BEGIN:VCALENDAR
VERSION:2.0
PRODID:-//OmniMagnetCalendar//EN
BEGIN:VEVENT
DTSTAMP:20190625T195740Z
STATUS:CONFIRMED
UID:hcnorthernnevada.clubs.harvard.edu397
DTSTART:20260110T160000Z
DTEND:20260111T030000Z
LOCATION:Alpine Base Lodge at Palisades Tahoe, 2600 Alpine Meadows Rd, Alpine Meadows, CA, 96146,
SUMMARY:Registration Open: Harvard Club Ski & Snowboard Day 2026, January 10 (Register by Jan 3)
DESCRIPTION:Join the Harvard Clubs of Northern Nevada & the Sierra, Silicon Valley, San Francisco and Sacramento for a joint ski day on the Alpine side of  Palisades Tahoe (formerly Squaw Valley Ski Resort: https://www.palisadestahoe.com).
BEGIN:VALARM
TRIGGER:-PT15M
ACTION:DISPLAY
END:VALARM
TRANSP:OPAQUE
END:VEVENT
END:VCALENDAR
